BEGIN:VCALENDAR
VERSION:2.0
PRODID:-//ChamberMaster//Event Calendar 2.0//EN
METHOD:PUBLISH
X-PUBLISHED-TTL:P3D
REFRESH-INTERVAL:P3D
CALSCALE:GREGORIAN
BEGIN:VEVENT
DTSTART:20220519T170000Z
DTEND:20220519T174500Z
X-MICROSOFT-CDO-ALLDAYEVENT:FALSE
SUMMARY:7 Essentials of ESG Investing
DESCRIPTION:Hosted by: Capital Wealth Advisory Group\n\nA private wealth advisory practice of Ameriprise Financial Services\, LLC \n\n\n\nJoin us for an educational webinar about ESG investing. Environmental\, Social & Governance considerations are affecting consumer preferences and public attitudes. Policymakers are setting environmental and social goals -for some companies\, this may be a headwind  but it also creates significant opportunities for those at the forefront of change. Learn how ESG is affecting the investment landscape and is changing the nature of investment flows.\n\n\n\nPresented by Meera Pandit\, Vice President\, Global Market Strategist\, JP Morgan\n\n\n\n\n\nPlease call:  1-844-621-3956    Meeting Number (Access Code):  2486 027 1331\n\n\n\nClick here to join the WebEx\n\n\n\nPassword:  Seminar1!\n\n  \n\nPlease plan to call the toll-free number to hear the speaker and join the WebEx event online to view the slides using the login details. WebEx may prompt you to install or activate a plug-in to view the meeting.  \n\nThank you in advance for entering your name and email address to attend.
X-ALT-DESC;FMTTYPE=text/html:Hosted by: Capital Wealth Advisory Group<br />\nA private wealth advisory practice of Ameriprise Financial Services\, LLC&nbsp\;<br />\n<br />\nJoin us for an educational webinar about ESG investing. Environmental\, Social &amp\; Governance considerations are affecting consumer preferences and public attitudes. Policymakers are setting environmental and social goals -for some companies\, this may be a headwind&hellip\; but it also creates significant opportunities for those at the forefront of change. Learn how ESG is affecting the investment landscape and is changing the nature of investment flows.<br />\n<br />\nPresented by Meera Pandit\, Vice President\, Global Market Strategist\, JP Morgan<br />\n<br />\n<br />\nPlease call:&nbsp\; 1-844-621-3956&nbsp\; &nbsp\; Meeting Number (Access Code):&nbsp\; 2486 027 1331<br />\n<br />\n<a href="https://ampfadvisors.webex.com/ampfadvisors/j.php?MTID=m0b15e5094cf1b3a35c04bf4b7142636f">Click here to join the WebEx</a><br />\n<br />\nPassword:&nbsp\; Seminar1!<br />\n&nbsp\;&nbsp\;<br />\nPlease plan to call the toll-free number to hear the speaker and join the WebEx event online to view the slides using the login details. WebEx may prompt you to install or activate a plug-in to view the meeting.&nbsp\;&nbsp\;<br />\nThank you in advance for entering your name and email address to attend.
LOCATION:
UID:e.1970.1581
SEQUENCE:3
DTSTAMP:20260420T004652Z
URL:https://business.fitchburgchamber.com/events/details/7-essentials-of-esg-investing-1581
END:VEVENT

END:VCALENDAR
