BEGIN:VCALENDAR
VERSION:2.0
PRODID:-//ChamberMaster//Event Calendar 2.0//EN
METHOD:PUBLISH
X-PUBLISHED-TTL:P3D
REFRESH-INTERVAL:P3D
CALSCALE:GREGORIAN
BEGIN:VEVENT
DTSTART:20231123T210000Z
DTEND:20231123T230000Z
X-MICROSOFT-CDO-ALLDAYEVENT:FALSE
SUMMARY:5th Annual Community Thanksgiving
DESCRIPTION:This Thanksgiving Delta Beer Lab are celebrating community\, diversity\, and good food. They'll be opening the taproom to all who choose to celebrate. You're welcome if you are on your own or your group needs a home.\n\n\n\nThe taproom will be open from 1:00-7:00pm with food being served from 3:00-5:00pm.\n\nPlease order a ticket on our website or call the taproom to reserve yourself a plate. RSVP'ing on Facebook is NOT guaranteeing you a plate. The first 150 people to call or register on our website will be first in line for food\, everyone else will be admitted after they have gone through the line.\n\n\n\nhttps://www.delta.beer/store/community-thanksgiving\n\nTaproom Phone: 608.640.4500\n\n\n\nThis event is free to attend\, with donations encouraged. Proceeds will be donated to Agrace\, their November Nonprofit Partner.\n\n\n\nAny leftovers will also be donated to Briarpatch Youth Services shelter kitchen.\n\nIn addition\, They would be remiss to not mention the dark history surrounding this holiday and the fact that we live on stolen lands. Their brewery sits on the original homelands of the Ho-Chunk\, Sauk-Meskwaki\, Peoria\, Miami\, and Sioux Nations. They choose to acknowledge this history\, the true past\, and the cultural richness that these peoples have shown and continue to offer to our community.
X-ALT-DESC;FMTTYPE=text/html:This Thanksgiving Delta Beer Lab are celebrating community\, diversity\, and good food. They&#39\;ll be opening the taproom to all who choose to celebrate. You&#39\;re welcome if you are on your own or your group needs a home.<br />\n<br />\nThe taproom will be open from 1:00-7:00pm with food being served from 3:00-5:00pm.<br />\nPlease order a ticket on our website or call the taproom to reserve yourself a plate. RSVP&#39\;ing on Facebook is NOT guaranteeing you a plate. The first 150 people to call or register on our website will be first in line for food\, everyone else will be admitted after they have gone through the line.<br />\n<br />\nhttps://www.delta.beer/store/community-thanksgiving<br />\nTaproom Phone: 608.640.4500<br />\n<br />\nThis event is free to attend\, with donations encouraged. Proceeds will be donated to Agrace\, their November Nonprofit Partner.<br />\n<br />\nAny leftovers will also be donated to Briarpatch Youth Services shelter kitchen.<br />\nIn addition\, They would be remiss to not mention the dark history surrounding this holiday and the fact that we live on stolen lands. Their brewery sits on the original homelands of the Ho-Chunk\, Sauk-Meskwaki\, Peoria\, Miami\, and Sioux Nations. They choose to acknowledge this history\, the true past\, and the cultural richness that these peoples have shown and continue to offer to our community.
LOCATION:Delta Beer Lab 167 E. Badger Road\, Fitchburg
UID:e.1970.3193
SEQUENCE:3
DTSTAMP:20260423T081511Z
URL:https://business.fitchburgchamber.com/events/details/5th-annual-community-thanksgiving-3193
END:VEVENT

END:VCALENDAR
