BEGIN:VCALENDAR
VERSION:2.0
PRODID:-//ChamberMaster//Event Calendar 2.0//EN
METHOD:PUBLISH
X-PUBLISHED-TTL:P3D
REFRESH-INTERVAL:P3D
CALSCALE:GREGORIAN
BEGIN:VEVENT
DTSTART:20220728T230000Z
DTEND:20220729T020000Z
X-MICROSOFT-CDO-ALLDAYEVENT:FALSE
SUMMARY:4th Thursday at COPA - Madison Jazz Jam
DESCRIPTION:Bring your instruments\,\n\nBring your family and friends\,\n\nBring your own food & drink.\n\nEnjoy the music on stage or in the audience.\n\nHouseband: Doug White - p\, Lucas Koeher - b\, Matthew Endres - d\, Dan Wallach - sax
X-ALT-DESC;FMTTYPE=text/html:Bring your instruments\,<br />\nBring your family and friends\,<br />\nBring your own food &amp\; drink.<br />\nEnjoy the music on stage or in the audience.<br />\nHouseband: Doug White - p\, Lucas Koeher - b\, Matthew Endres - d\, Dan Wallach - sax
LOCATION:COPA SAIL 2814 Index Road Fitchburg\, WI
UID:e.1970.2031
SEQUENCE:3
DTSTAMP:20260420T060908Z
URL:https://business.fitchburgchamber.com/events/details/4th-thursday-at-copa-madison-jazz-jam-2031
END:VEVENT

END:VCALENDAR
