BEGIN:VCALENDAR
VERSION:2.0
PRODID:-//ChamberMaster//Event Calendar 2.0//EN
METHOD:PUBLISH
X-PUBLISHED-TTL:P3D
REFRESH-INTERVAL:P3D
CALSCALE:GREGORIAN
BEGIN:VEVENT
DTSTART;VALUE=DATE:20230217
DTEND;VALUE=DATE:20230219
TRANSP:TRANSPARENT
X-MICROSOFT-CDO-ALLDAYEVENT:TRUE
SUMMARY:4th Deltaversary Celebration
DESCRIPTION:We've been crafting and pouring pints for four years--FOUR YEARS!!--and that's something worth celebrating! We invite you to join us Friday evening\, February 17 and all day on Saturday\, February 18. Details on timed events below:\n\n\n\nWe have been saving a few kegs in the cellar for this special occasion including our 2 year J. Henry Bourbon Barrel Aged Barleywine (BA-BW'21).\n\n\n\nWe also have a few other delicious crowd favorites and special one off kegs that are only available in the taproom this weekend - stay tuned to unlock the secrets!\n\n\n\n****\n\n\n\nJoin us Friday\, February 17\, from 4:00-7:00 pm as we launch a weekend celebration of Delta with our Deltaversary Kick-Off and NonProfit Mixer. Open to all Delta friends and family\, our kick-off will involve brewery tours at 4:00 pm and 6:00 pm\, a Q&A session with our Head Brewer at 5:00 pm\, and an exciting announcement about Delta's *new* community engagement series.\n\n\n\nThe 6:00 pm brewery tour will also be our Nonprofit Partner Mixer where folx from Delta's past Nonprofit Partners are encouraged to come and reconnect with the Delta community over pints and conversation. Our hope for Delta's fifth year is to create a space where Delta guests can have more opportunities for active engagement with our Nonprofit Partners and vice versa. Now who doesn't want that??\n\n\n\n****\n\n\n\nSaturday afternoon will start off with a DUNK TANK from 1:00-5:00 pm. Take your best shot to dunk your favorite beertender / owner in the drink! All proceeds will benefit our February Nonprofit Partner - Wisconsin Conservation Voters to help raise awareness for and get out the vote on important ballot items this spring!\n\n\n\nThere will be LIVE MUSIC by local celebrities\, Cork 'n Bottle String Band from 4:30-7:00 pm\n\nLT's Aloha Wagon\, a Delta favorite\, will be serving up a taste of Hawaii on Saturday 4:30-7:30 pm.\n\nDon't worry\, we'll be setting up extra tables / high tops in the brewery for folx to have more space. No reservations please. And\, our brewers will be available to chat and answer any questions you have.\n\nWe can't wait to celebrate with you - Cheers!
X-ALT-DESC;FMTTYPE=text/html:We&#39\;ve been crafting and pouring pints for four years--FOUR YEARS!!--and that&#39\;s something worth celebrating! We invite you to join us Friday evening\, February 17 and all day on Saturday\, February 18. Details on timed events below:<br />\n<br />\nWe have been saving a few kegs in the cellar for this special occasion including our 2 year J. Henry Bourbon Barrel Aged Barleywine (BA-BW&#39\;21).<br />\n<br />\nWe also have a few other delicious crowd favorites and special one off kegs that are only available in the taproom this weekend - stay tuned to unlock the secrets!<br />\n<br />\n****<br />\n<br />\nJoin us Friday\, February 17\, from 4:00-7:00 pm as we launch a weekend celebration of Delta with our Deltaversary Kick-Off and NonProfit Mixer. Open to all Delta friends and family\, our kick-off will involve brewery tours at 4:00 pm and 6:00 pm\, a Q&amp\;A session with our Head Brewer at 5:00 pm\, and an exciting announcement about Delta&#39\;s *new* community engagement series.<br />\n<br />\nThe 6:00 pm brewery tour will also be our Nonprofit Partner Mixer where folx from Delta&#39\;s past Nonprofit Partners are encouraged to come and reconnect with the Delta community over pints and conversation. Our hope for Delta&#39\;s fifth year is to create a space where Delta guests can have more opportunities for active engagement with our Nonprofit Partners and vice versa. Now who doesn&#39\;t want that??<br />\n<br />\n****<br />\n<br />\nSaturday afternoon will start off with a DUNK TANK from 1:00-5:00 pm. Take your best shot to dunk your favorite beertender / owner in the drink! All proceeds will benefit our February Nonprofit Partner - Wisconsin Conservation Voters to help raise awareness for and get out the vote on important ballot items this spring!<br />\n<br />\nThere will be LIVE MUSIC by local celebrities\, Cork &#39\;n Bottle String Band from 4:30-7:00 pm<br />\nLT&#39\;s Aloha Wagon\, a Delta favorite\, will be serving up a taste of Hawaii on Saturday 4:30-7:30 pm.<br />\nDon&#39\;t worry\, we&#39\;ll be setting up extra tables / high tops in the brewery for folx to have more space. No reservations please. And\, our brewers will be available to chat and answer any questions you have.<br />\nWe can&#39\;t wait to celebrate with you - Cheers!
LOCATION:Delta Beer Lab 167 E. Badger Road\, Fitchburg
UID:e.1970.2770
SEQUENCE:3
DTSTAMP:20260422T172310Z
URL:https://business.fitchburgchamber.com/events/details/4th-deltaversary-celebration-2770
END:VEVENT

END:VCALENDAR
