BEGIN:VCALENDAR
VERSION:2.0
PRODID:-//ChamberMaster//Event Calendar 2.0//EN
METHOD:PUBLISH
X-PUBLISHED-TTL:P3D
REFRESH-INTERVAL:P3D
CALSCALE:GREGORIAN
BEGIN:VEVENT
DTSTART:20221124T210000Z
DTEND:20221124T230000Z
X-MICROSOFT-CDO-ALLDAYEVENT:FALSE
SUMMARY:4th Annual Community Thanksgiving at The Lab
DESCRIPTION:This Thanksgiving we are celebrating community\, diversity\, and good food. We'll be opening the taproom to all who choose to celebrate. You're welcome if you are on your own or your group needs a home.\n\n\n\nThe taproom will be open from 2:00-6:00pm with food being served from 3:00-5:00pm.\n\nTickets will give us a head count so we can make sure we have more than enough food for all attendees\, but not required. This event is free to attend\, with donations encouraged. Proceeds will be donated to Toys for Tots\, our November Nonprofit Partner.\n\nAll leftovers will also be donated to Briarpatch Youth Services shelter kitchen.\n\nIn addition\, we would be remiss to not mention the dark history surrounding this holiday and the fact that we live on stolen lands. Our brewery sits on the original homelands of the Ho-Chunk\, Sauk-Meskwaki\, Peoria\, Miami\, and Sioux Nations. We choose to acknowledge this history\, the true past\, and the cultural richness that these peoples have shown and continue to offer to our community.\n\n\n\nIn celebrating this holiday we do not choose to celebrate the dark and brutal history that has attempted to wipe these cultures from the narrative\, but we are choosing to celebrate community\, diversity\, togetherness\, and good food.\n\nTo quote the Sioux Chef Sean Sherman from his Time article [The Thanksgiving Tale We Tell Is a Harmful Lie. As a Native American\, I've Found a Better Way to Celebrate the Holiday]:\n\n\n\n"The thing is\, we do not need the poisonous "pilgrims and Indians" narrative. We do not need that illusion of past unity to actually unite people today. Instead\, we can focus simply on values that apply to everybody: togetherness\, generosity\, and gratitude."\n\n\n\nRegistering for tickets will help us prepare. We are looking forward to celebrating with you!\n\n\n\n*This meal will be served cafeteria style to guests by Delta Beer Lab employees.\n\n*Traditional Thanksgiving style meal will be served\; if you have questions about ingredients / allergies\, please ask the server.\n\n*NO TO-GO MEALS AVAILABLE*
X-ALT-DESC;FMTTYPE=text/html:This Thanksgiving we are celebrating community\, diversity\, and good food. We&#39\;ll be opening the taproom to all who choose to celebrate. You&#39\;re welcome if you are on your own or your group needs a home.<br />\n<br />\nThe taproom will be open from 2:00-6:00pm with food being served from 3:00-5:00pm.<br />\nTickets will give us a head count so we can make sure we have more than enough food for all attendees\, but not required. This event is free to attend\, with donations encouraged. Proceeds will be donated to Toys for Tots\, our November Nonprofit Partner.<br />\nAll leftovers will also be donated to Briarpatch Youth Services shelter kitchen.<br />\nIn addition\, we would be remiss to not mention the dark history surrounding this holiday and the fact that we live on stolen lands. Our brewery sits on the original homelands of the Ho-Chunk\, Sauk-Meskwaki\, Peoria\, Miami\, and Sioux Nations. We choose to acknowledge this history\, the true past\, and the cultural richness that these peoples have shown and continue to offer to our community.<br />\n<br />\nIn celebrating this holiday we do not choose to celebrate the dark and brutal history that has attempted to wipe these cultures from the narrative\, but we are choosing to celebrate community\, diversity\, togetherness\, and good food.<br />\nTo quote the Sioux Chef Sean Sherman from his Time article [The Thanksgiving Tale We Tell Is a Harmful Lie. As a Native American\, I&rsquo\;ve Found a Better Way to Celebrate the Holiday]:<br />\n<br />\n&quot\;The thing is\, we do not need the poisonous &ldquo\;pilgrims and Indians&rdquo\; narrative. We do not need that illusion of past unity to actually unite people today. Instead\, we can focus simply on values that apply to everybody: togetherness\, generosity\, and gratitude.&quot\;<br />\n<br />\nRegistering for tickets will help us prepare. We are looking forward to celebrating with you!<br />\n<br />\n*This meal will be served cafeteria style to guests by Delta Beer Lab employees.<br />\n*Traditional Thanksgiving style meal will be served\; if you have questions about ingredients / allergies\, please ask the server.<br />\n*NO TO-GO MEALS AVAILABLE*
LOCATION:Delta Beer Lab 167 E. Badger Road\, Madison
UID:e.1970.2088
SEQUENCE:3
DTSTAMP:20260422T122051Z
URL:https://business.fitchburgchamber.com/events/details/4th-annual-community-thanksgiving-at-the-lab-2088
END:VEVENT

END:VCALENDAR
