BEGIN:VCALENDAR
VERSION:2.0
PRODID:-//ChamberMaster//Event Calendar 2.0//EN
METHOD:PUBLISH
X-PUBLISHED-TTL:P3D
REFRESH-INTERVAL:P3D
CALSCALE:GREGORIAN
BEGIN:VEVENT
DTSTART:20230114T170000Z
DTEND:20230115T030000Z
X-MICROSOFT-CDO-ALLDAYEVENT:FALSE
SUMMARY:3rd Annual Winter Fest
DESCRIPTION:Mark your calendars for the 3rd Annual Winter Fest at Hop Haus Brewing Company on January 14th! Break up the cold\, dark days of January and celebrate winter\, friends and have a jolly good time! Doors open at 11:00am\, the outdoor fire pits will be lit!
X-ALT-DESC;FMTTYPE=text/html:Mark your calendars for the 3rd Annual Winter Fest at Hop Haus Brewing Company on January 14th! Break up the cold\, dark days of January and celebrate winter\, friends and have a jolly good time! Doors open at 11:00am\, the outdoor fire pits will be lit!
LOCATION:Hop Haus Brewing Company Fitchburg 2975 Sub-Zero Parkway\, Fitchburg
UID:e.1970.2741
SEQUENCE:3
DTSTAMP:20260422T155116Z
URL:https://business.fitchburgchamber.com/events/details/3rd-annual-winter-fest-2741
END:VEVENT

END:VCALENDAR
