BEGIN:VCALENDAR
VERSION:2.0
PRODID:-//ChamberMaster//Event Calendar 2.0//EN
METHOD:PUBLISH
X-PUBLISHED-TTL:P3D
REFRESH-INTERVAL:P3D
CALSCALE:GREGORIAN
BEGIN:VEVENT
DTSTART:20220317T220000Z
DTEND:20220318T002500Z
X-MICROSOFT-CDO-ALLDAYEVENT:FALSE
SUMMARY:3 Days of 3 Floyds
DESCRIPTION:Join Quivey's Grove March 15-17 to enjoy a great beer pairing in the Stable Grill. No reservation required. Limited quantity available.\n\n\n\nThis 4 course menu will be offered from 5pm-8pm each of the 3 days (while supplies last) $30 per person. Tax and gratuity NOT included. No substitutions. Four-ounce beer taste with each course.  \n\n\n\nPotato-Bacon Puffs\n\nwith tangy blue cheese sauce\n\n3 Floyds Barbarian Haze IPA\n\n\n\nCreamy Onion Soup\n\nGarnished with crispy onion straws\n\n3 Floyds GumballHead\n\n\n\nBeer Brined Boneless Barbeque Pork Chop\n\nwith potatoes smashed with garlic butter\, herbs\, and cream\n\n3 Floyds Zombie Dust\n\n\n\nHot Fudge Mary Jane\n\nchocolate brownie with ice cream\, hot fudge\, and whip cream\n\n3 Floyds Robert The Bruce Scottish Ale
X-ALT-DESC;FMTTYPE=text/html:Join Quivey&#39\;s Grove March 15-17 to enjoy a great beer pairing in the Stable Grill. No reservation required. Limited quantity available.<br />\n<br />\nThis 4 course menu will be offered from 5pm-8pm each of the 3 days (while supplies last) $30 per person. Tax and gratuity NOT included. No substitutions. Four-ounce beer taste with each course.&nbsp\;&nbsp\;<br />\n<br />\nPotato-Bacon Puffs<br />\nwith tangy blue cheese sauce<br />\n3 Floyds Barbarian Haze IPA<br />\n<br />\nCreamy Onion Soup<br />\nGarnished with crispy onion straws<br />\n3 Floyds GumballHead<br />\n<br />\nBeer Brined Boneless Barbeque Pork Chop<br />\nwith potatoes smashed with garlic butter\, herbs\, and cream<br />\n3 Floyds Zombie Dust<br />\n<br />\nHot Fudge Mary Jane<br />\nchocolate brownie with ice cream\, hot fudge\, and whip cream<br />\n3 Floyds Robert The Bruce Scottish Ale
LOCATION:Quivey's Grove 6261 Nesbitt Road\, Fitchburg
UID:e.1970.1660
SEQUENCE:3
DTSTAMP:20260419T231410Z
URL:https://business.fitchburgchamber.com/events/details/3-days-of-3-floyds-03-17-2022-1660
END:VEVENT

END:VCALENDAR
