BEGIN:VCALENDAR
VERSION:2.0
PRODID:-//ChamberMaster//Event Calendar 2.0//EN
METHOD:PUBLISH
X-PUBLISHED-TTL:P3D
REFRESH-INTERVAL:P3D
CALSCALE:GREGORIAN
BEGIN:VEVENT
DTSTART:20231019T170000Z
DTEND:20231019T174500Z
X-MICROSOFT-CDO-ALLDAYEVENT:FALSE
SUMMARY:2023 Seminar Series: When You Health and Your Money Intersect
DESCRIPTION:Hosted by: Capital Wealth Advisory Group\n\nA private wealth advisory practice of Ameriprise Financial Services\, LLC \n\n \n\nThe global pandemic showed how health issues can impact markets and economies. Have you considered how your health may affect your money? Join this webinar to learn more about:\n\n \n\n	Key health discussions and decisions\n	How a little preparation goes a long way\n	How your advisor can help\n\n \n\nPresented by Michael Graci\, Director\, Advisor Insights\, BlackRock\n\n\n\nPlease call:  1-844-621-3956    Meeting Number (Access Code):  2487 792 7630#\n\n \n\nClick here to join the WebEx \n\n \n\nPassword:  Seminar1!\n\n \n\nPlease plan to call the toll-free number to hear the speaker and join the WebEx event online to view the slides using the login details. WebEx may prompt you to install or activate a plug-in to view the meeting.  \n\nThank you in advance for entering your name and email address to attend.\n\n \n\n \n\nThis is an informational seminar. There is no cost or obligation.\n\nBlackrock and their representatives are not affiliated with Ameriprise Financial Inc.\n\n \n\n \n\nInvestment products are not insured by the FDIC\, NCUA or any federal agency\, are not deposits or obligations of\, or guaranteed by any financial institution\, and involve investment risks including possible loss of principal and fluctuation in value.\n\n \n\nAmeriprise Financial Services\, LLC. Member FINRA and SIPC. \n\n  2023 Ameriprise Financial\, Inc. All rights reserved.\n\n5486186ACMR0323
X-ALT-DESC;FMTTYPE=text/html:<span style="font-family:cambria\,serif\;">Hosted by: Capital Wealth Advisory Group</span><br />\n<span style="font-family:cambria\,serif\;">A private wealth advisory practice of Ameriprise Financial Services\, LLC </span><br />\n&nbsp\;<br />\n<span style="font-family:cambria\,serif\;">The global pandemic showed how health issues can impact markets and economies. Have you considered how your health may affect your money? Join this webinar to learn more about:</span><br />\n&nbsp\;\n<ul>\n	<li align="center" style="text-align:center\;"><span style="font-family:cambria\,serif\;">Key health discussions and decisions</span></li>\n	<li align="center" style="text-align:center\;"><span style="font-family:cambria\,serif\;">How a little preparation goes a long way</span></li>\n	<li align="center" style="text-align:center\;"><span style="font-family:cambria\,serif\;">How your advisor can help</span></li>\n</ul>\n&nbsp\;<br />\n<strong><span style="font-family:cambria\,serif\;"><span style="font-size:16.0pt\;">Presented by Michael Graci\, Director\, Advisor Insights\, BlackRock</span></span></strong><br />\n<br />\n<strong><span style="font-family:cambria\,serif\;">Please call:&nbsp\; 1-844-621-3956 &nbsp\;&nbsp\;&nbsp\;Meeting Number (Access Code):&nbsp\; 2487 792 7630#</span></strong><br />\n&nbsp\;<br />\n<a href="https://ampfadvisors.webex.com/ampfadvisors/j.php?MTID=mbb7c9ea79b077fdd26666a29a189e10e" target="_blank"><strong><span style="color:#00B0F0\;"><span style="font-size:16.0pt\;">Click here to join the WebEx</span></span></strong></a>&nbsp\;<br />\n&nbsp\;<br />\n<strong><span style="font-family:cambria\,serif\;">Password:&nbsp\; Seminar1!</span></strong><br />\n&nbsp\;<br />\n<span style="font-family:cambria\,serif\;">Please plan to call the toll-free number to hear the speaker and join the WebEx event online to view the slides using the login details. WebEx may prompt you to install or activate a plug-in to view the meeting.&nbsp\; </span><br />\n<span style="font-family:cambria\,serif\;">Thank you in advance for entering your name and email address to attend.</span><br />\n&nbsp\;<br />\n&nbsp\;<br />\n<span style="color:black\;"><span style="font-size:8.0pt\;">This is an informational seminar. There is no cost or obligation.</span></span><br />\n<span style="color:black\;"><span style="font-size:8.0pt\;">Blackrock and their representatives are not affiliated with Ameriprise Financial Inc.</span></span><br />\n&nbsp\;<br />\n&nbsp\;<br />\n<strong><span style="color:black\;"><span style="font-size:9.0pt\;">Investment products are not insured by the FDIC\, NCUA or any federal agency\, are not deposits or obligations of\, or guaranteed by any financial institution\, and involve investment risks including possible loss of principal and fluctuation in value.</span></span></strong><br />\n&nbsp\;<br />\n<span style="color:black\;"><span style="font-size:8.0pt\;">Ameriprise Financial Services\, LLC. Member FINRA and SIPC. </span></span><br />\n<span style="color:black\;"><span style="font-size:8.0pt\;">&copy\; 2023 Ameriprise Financial\, Inc. All rights reserved.</span></span><br />\n<span style="color:black\;"><span style="font-size:8.0pt\;">5486186ACMR0323</span></span>
LOCATION:
UID:e.1970.3119
SEQUENCE:3
DTSTAMP:20260423T051404Z
URL:https://business.fitchburgchamber.com/events/details/2023-seminar-series-when-you-health-and-your-money-intersect-3119
END:VEVENT

END:VCALENDAR
