BEGIN:VCALENDAR
VERSION:2.0
PRODID:-//ChamberMaster//Event Calendar 2.0//EN
METHOD:PUBLISH
X-PUBLISHED-TTL:P3D
REFRESH-INTERVAL:P3D
CALSCALE:GREGORIAN
BEGIN:VEVENT
DTSTART:20230921T170000Z
DTEND:20230921T174500Z
X-MICROSOFT-CDO-ALLDAYEVENT:FALSE
SUMMARY:2023 Seminar Series: Identity Theft - Protecting Your Data and Dollars
DESCRIPTION:Hosted by: Capital Wealth Advisory Group \n\nA private wealth advisory practice of Ameriprise Financial Services\, LLC \n\n \n\nIdentity theft can affect you years after a thief begins using your information. Knowing how to guard personal information is your first line of defense. Join this webinar to learn more about how to protect yourself:\n\n\n\n	At Home\n\n	\n		Safe storage of documents\n		How to screen phone calls\n		Identify email scams\n		Privacy settings on social media\n	\n	\n	Children\n	\n		Kids can be targets of identity theft too\n		The warning signs\n	\n	\n	Parents and elderly\n	\n		Often targets of scams\n		The warning signs\n	\n	\n	What to do if you become a victim\n	\n		Acting fast by completing some important steps\n	\n	\n	Away from Home\n	\n		Ways to be aware of your location and using public Wi-Fi\n		Keeping track of personal items\n	\n	\n\n\n\n\n \n\nPresented by Carrie Caruthers\, Senior Anti-Money Laundering Officer and Risk & Fraud Controls Manager\, \n\nAmerican Century Investments\n\n \n\nPlease call:  1-844-621-3956    Meeting Number (Access Code):  2499 226 2864#\n\n \n\nCLICK HERE TO JOIN\n\n \n\nPassword:  Seminar1!\n\n \n\nPlease plan to call the toll-free number to hear the speaker and join the WebEx event online to view the slides using the login details. WebEx may prompt you to install or activate a plug-in to view the meeting.  \n\n \n\n \n\nThis is an informational seminar. There is no cost or obligation.\n\nAmeriprise Financial Services\, LLC. Member FINRA and SIPC. \n\n  2023 Ameriprise Financial\, Inc. All rights reserved.\n\n5600593ACMR0423
X-ALT-DESC;FMTTYPE=text/html:<div><span style="font-family:cambria\,serif\;">Hosted by: Capital Wealth Advisory Group </span><br />\n<span style="font-family:cambria\,serif\;">A private wealth advisory practice of Ameriprise Financial Services\, LLC </span><br />\n&nbsp\;<br />\nIdentity theft can affect you years after a thief begins using your information. Knowing how to guard personal information is your first line of defense. Join this webinar to learn more about how to protect yourself:</div>\n\n<div>\n<ul>\n	<li><span style="font-family:cambria\,serif\;">At Home</span>\n\n	<ul style="list-style-type:circle\;">\n		<li><span style="font-family:cambria\,serif\;">Safe storage of documents</span></li>\n		<li><span style="font-family:cambria\,serif\;">How to screen phone calls</span></li>\n		<li><span style="font-family:cambria\,serif\;">Identify email scams</span></li>\n		<li><span style="font-family:cambria\,serif\;">Privacy settings on social media</span></li>\n	</ul>\n	</li>\n	<li><span style="font-family:cambria\,serif\;">Children</span>\n	<ul style="list-style-type:circle\;">\n		<li><span style="font-family:cambria\,serif\;">Kids can be targets of identity theft too</span></li>\n		<li><span style="font-family:cambria\,serif\;">The warning signs</span></li>\n	</ul>\n	</li>\n	<li><span style="font-family:cambria\,serif\;">Parents and elderly</span>\n	<ul style="list-style-type:circle\;">\n		<li><span style="font-family:cambria\,serif\;">Often targets of scams</span></li>\n		<li><span style="font-family:cambria\,serif\;">The warning signs</span></li>\n	</ul>\n	</li>\n	<li><span style="font-family:cambria\,serif\;">What to do if you become a victim</span>\n	<ul style="list-style-type:circle\;">\n		<li><span style="font-family:cambria\,serif\;">Acting fast by completing some important steps</span></li>\n	</ul>\n	</li>\n	<li><span style="font-family:cambria\,serif\;">Away from Home</span>\n	<ul style="list-style-type:circle\;">\n		<li><span style="font-family:cambria\,serif\;">Ways to be aware of your location and using public Wi-Fi</span></li>\n		<li><span style="font-family:cambria\,serif\;">Keeping track of personal items</span></li>\n	</ul>\n	</li>\n</ul>\n</div>\n<br clear="all" />\n&nbsp\;<br />\n<strong><span style="font-family:cambria\,serif\;"><span style="font-size:16.0pt\;">Presented by Carrie Caruthers\, Senior Anti-Money Laundering Officer and Risk &amp\; Fraud Controls Manager\, </span></span></strong><br />\n<strong><span style="font-family:cambria\,serif\;"><span style="font-size:16.0pt\;">American Century Investments</span></span></strong><br />\n&nbsp\;<br />\n<strong><span style="font-family:cambria\,serif\;">Please call:&nbsp\; 1-844-621-3956 &nbsp\;&nbsp\;&nbsp\;Meeting Number (Access Code):&nbsp\; 2499 226 2864#</span></strong><br />\n&nbsp\;<br />\n<a href="https://ampfadvisors.webex.com/ampfadvisors/j.php?MTID=mc43fdc8bc24c681bac991cd1f7b7874d"><strong><span style="color:#92D050\;"><span style="font-size:18.0pt\;">CLICK HERE TO JOIN</span></span></strong></a><br />\n&nbsp\;<br />\n<strong><span style="font-family:cambria\,serif\;">Password:&nbsp\; Seminar1!</span></strong><br />\n&nbsp\;<br />\n<span style="font-family:cambria\,serif\;">Please plan to call the toll-free number to hear the speaker and join the WebEx event online to view the slides using the login details. WebEx may prompt you to install or activate a plug-in to view the meeting.&nbsp\; </span><br />\n&nbsp\;<br />\n&nbsp\;<br />\n<span style="color:black\;"><span style="font-size:8.0pt\;">This is an informational seminar. There is no cost or obligation.</span></span><br />\n<span style="color:black\;"><span style="font-size:8.0pt\;">Ameriprise Financial Services\, LLC. Member FINRA and SIPC. </span></span><br />\n<span style="color:black\;"><span style="font-size:8.0pt\;">&copy\; 2023 Ameriprise Financial\, Inc. All rights reserved.</span></span><br />\n<span style="color:black\;"><span style="font-size:8.0pt\;">5600593ACMR0423 </span></span>
LOCATION:
UID:e.1970.3118
SEQUENCE:3
DTSTAMP:20260423T051057Z
URL:https://business.fitchburgchamber.com/events/details/2023-seminar-series-identity-theft-protecting-your-data-and-dollars-3118
END:VEVENT

END:VCALENDAR
